BEGIN:VCALENDAR
VERSION:2.0
PRODID:-//eventon.com NONSGML v1.0//EN
BEGIN:VEVENT
UID:69e73710910cb
DTSTAMP:20260421T103632
DTSTART:20200830T110000Z
DTEND:20200830T215000Z
LOCATION:Stadtfest Aschaffenburg 
SUMMARY:ABGESAGT! Stadtfest Aschaffenburg
DESCRIPTION: ABGESAGT! Stadtfest Aschaffenburg
END:VEVENT
END:VCALENDAR