BEGIN:VCALENDAR
VERSION:2.0
PRODID:-//eventon.com NONSGML v1.0//EN
BEGIN:VEVENT
UID:69e7ab1b32994
DTSTAMP:20260421T185139
DTSTART:20220828T120000Z
DTEND:20220828T215000Z
LOCATION:Frizz-Bühne\,  Stadtfest Aschaffenburg Goldbacher Strasse\,  63739 Aschaffenburg
SUMMARY:Aschaffenburger Stadtfest
DESCRIPTION: Aschaffenburger Stadtfest
END:VEVENT
END:VCALENDAR